BEGIN:VCALENDAR
PRODID:-//eluceo/ical//2.0/EN
VERSION:2.0
CALSCALE:GREGORIAN
BEGIN:VEVENT
UID:event-135
DTSTAMP:20260419T132019Z
SUMMARY:R&D bezoek ESTEC/ESA
DESCRIPTION:NOVU bezoek aan ESTEC/ESA Op vrijdagmiddag 19 september a.s. b
 ezoekt NOVU ESTEC/ESA in Noordwijk.  Wat is ESTEC/ESA Het European Space
  Research and Technology Centre (ESTEC) is het technische en administrati
 eve "hart" van de Europese Ruimtevaartorganisatie (ESA). ESTEC bevindt 
 zich in Noordwijk. Vrijwel alle ruimtevaartprojecten van ESA worden hier b
 edacht en begeleid tijdens hun verschillende ontwikkelingsfases. Het is he
 t grootste ruimtevaarttechnologiecentrum van Europa. Wij krijgen de kans o
 m daar een uitgebreide rondleiding te krijgen langs de diverse afdelingen.
  Let op: Geldig paspoort/ID is bij aanmelding verplicht! Let op 2: Er zijn
  extra kaarten beschikbaar\, maar deadline is vrijdag 12 september 12:00. 
 Dus bestel nu! Programma
DTSTART:20250919T113000Z
DTEND:20250919T144500Z
LOCATION:ESTEC/ESA
END:VEVENT
BEGIN:VTIMEZONE
TZID:UTC
BEGIN:STANDARD
DTSTART:20250919T113000
TZNAME:UTC
TZOFFSETTO:+0000
TZOFFSETFROM:+0000
END:STANDARD
END:VTIMEZONE
END:VCALENDAR
