BEGIN:VCALENDAR
PRODID:-//eluceo/ical//2.0/EN
VERSION:2.0
CALSCALE:GREGORIAN
BEGIN:VEVENT
UID:event-146
DTSTAMP:20260420T160203Z
SUMMARY:Webinar - Intellectueel Eigendom: rechten en beschermingsvormen - 2
 1 mei
DESCRIPTION:Hoe zit het met Intellectueel Eigendom (IE)? Op welke manier be
 scherm je jouw ideeën\, uitvindingen\, producten en merken? Leer in dit w
 ebinar de veelvoorkomende rechten en beschermingsvormen. Na dit webinar we
 et je op welke manieren je je creatieve idee\, uitvinding of merk kunt bes
 chermen en wat daarbij komt kijken. Je maakt kennis met: auteursrecht\; ha
 ndelsnaam\; merken\; modelrecht\; bedrijfsgeheim\; octrooi/patent. Kosten 
 Deelname is gratis. Meld je tijdig aan. Origanisator De training wordt geo
 rganiseerd door de Rijksdienst voor Ondernemers (RVO)\, in opdracht van M
 Inisterie van Economische Zaken. Aanmelden Meld je aan via onderstaande aa
 nmeldknop. Kijk in de octrooiagenda voor andere data en evenementen van Oc
 trooicentrum Nederland. Meer info over het webinar vind je hier. Aanmelden
  voor Webinar    
DTSTART:20260521T130000Z
DTEND:20260521T134500Z
LOCATION:Online webinar door RVO
END:VEVENT
BEGIN:VTIMEZONE
TZID:UTC
BEGIN:STANDARD
DTSTART:20260521T130000
TZNAME:UTC
TZOFFSETTO:+0000
TZOFFSETFROM:+0000
END:STANDARD
END:VTIMEZONE
END:VCALENDAR
