BEGIN:VCALENDAR
PRODID:-//eluceo/ical//2.0/EN
VERSION:2.0
CALSCALE:GREGORIAN
BEGIN:VEVENT
UID:event-148
DTSTAMP:20260420T160131Z
SUMMARY:Webinar - Introductie van IE-strategie- 11 juni
DESCRIPTION:Heb je als ondernemer wel eens samengewerkt met andere partijen
  bij je innovatietraject? En liep je daarbij tegen problemen aan? Bijvoorb
 eeld over wie de eigenaar is van het Intellectueel Eigendom (IE) en de ver
 deling van kosten en risico's. Meld je dan aan voor dit webinar en kom mee
 r te weten over samenwerking en IE. Tijdens dit webinar leer je: welke ple
 k IE inneemt in de bedrijfsstrategie\; wat het belang is van IE-analyse\; 
 gebruik te maken van IE van derden\; je eigen IE-portefeuille beheren\; ho
 e je waarde kunt creëren met je IE\; hoe IE-strategie zich verhoudt tot b
 edrijfsstrategie. Na dit webinar ken je het belang van de uitwerking en to
 epassing van een goede IE-strategie en hoe deze je bedrijfsstrategie onder
 steunt. Kosten Deelname is gratis. Meld je tijdig aan. Aanmelden Meld je a
 an via onderstaande aanmeldknop. Kijk in de octrooiagenda voor andere data
  en evenementen van Octrooicentrum Nederland. Meer info over het webinar v
 ind je hier. Hier aanmelden De training wordt georganiseerd door de Rijks
 dienst voor Ondernemers (RVO)\, in opdracht van MInisterie van Economische
  Zaken.
DTSTART:20260611T130000Z
DTEND:20260611T140000Z
LOCATION:Online webinar door RVO
END:VEVENT
BEGIN:VTIMEZONE
TZID:UTC
BEGIN:STANDARD
DTSTART:20260611T130000
TZNAME:UTC
TZOFFSETTO:+0000
TZOFFSETFROM:+0000
END:STANDARD
END:VTIMEZONE
END:VCALENDAR
