BEGIN:VCALENDAR
PRODID:-//eluceo/ical//2.0/EN
VERSION:2.0
CALSCALE:GREGORIAN
BEGIN:VEVENT
UID:event-149
DTSTAMP:20260420T160449Z
SUMMARY:Webinar - Octrooizoeken in Espacenet - 23 juni
DESCRIPTION:Een databank waarin (bijna) alle uitvindingen van de afgelopen 
 200 jaar staan. Van een apparaat uit 1827 om rum te maken uit rietsuiker t
 ot beschermingsmiddelen tegen het coronavirus: u vindt alle uitvindingen i
 n octrooidatabank Espacenet. Espacenet is een bron van inspiratie voor ied
 ereen die op zoek is naar technische informatie op een specifiek vakgebied
 . Maar de octrooidatabank biedt ook handige marketinginformatie. Aan de ha
 nd van een praktisch zoekvoorbeeld leer je hoe je gericht kunt zoeken in d
 e octrooidatabank. Bijvoorbeeld door classificatiecodes te gebruiken en ee
 n zogeheten zoektabel op te stellen. Het webinar is erg geschikt voor iede
 reen die weinig of geen ervaring heeft met deze octrooidatabank. Kosten De
 elname is gratis. Meld je tijdig aan. Origanisator De training wordt georg
 aniseerd door de Rijksdienst voor Ondernemers (RVO)\, in opdracht van MIn
 isterie van Economische Zaken. Aanmelden Meld je aan via onderstaande aanm
 eldknop. Kijk in de octrooiagenda voor andere data en evenementen van Octr
 ooicentrum Nederland. Meer info over het webinar vind je hier. Aanmelden v
 oor Webinar    
DTSTART:20260623T130000Z
DTEND:20260623T140000Z
LOCATION:Online webinar door RVO
END:VEVENT
BEGIN:VTIMEZONE
TZID:UTC
BEGIN:STANDARD
DTSTART:20260623T130000
TZNAME:UTC
TZOFFSETTO:+0000
TZOFFSETFROM:+0000
END:STANDARD
END:VTIMEZONE
END:VCALENDAR
